BEGIN:VCALENDAR
PRODID:-//Microsoft Corporation//Outlook 12.0 MIMEDIR//EN
VERSION:2.0
CALSCALE:GREGORIAN
BEGIN:VEVENT
UID: 8ac86644-81a6-48ee-8818-a8069ba4b872
SUMMARY:Õpetajate päev
DTSTAMP:20181005
DTSTART:20181005
DTEND:20181006
DURATION:P1D
LOCATION:
DESCRIPTION: <p>	Tähistame õpetajate päeva. Koolielu korraldavad ja tunde annavad 9. klassi õpilased.&nbsp;</p><p><strong>Link: </strong>https://kabala.edu.ee/et/sundmuste-kalender/opetajate-paev</p><p><strong>Hind: </strong></p>
STATUS:CONFIRMED
SEQUENCE:3
X-ALT-DESC;FMTTYPE=text/html:<p>	Tähistame õpetajate päeva. Koolielu korraldavad ja tunde annavad 9. klassi õpilased.&nbsp;</p><p><strong>Link: </strong>https://kabala.edu.ee/et/sundmuste-kalender/opetajate-paev</p><p><strong>Hind: </strong></p>
X-MICROSOFT-CDO-BUSYSTATUS:OOF
X-MICROSOFT-CDO-IMPORTANCE:1
X-MICROSOFT-DISALLOW-COUNTER:FALSE
X-MS-OLK-ALLOWEXTERNCHECK:TRUE
X-MS-OLK-CONFTYPE:0
X-MICROSOFT-CDO-ALLDAYEVENT:1
X-MICROSOFT-MSNCALENDAR-ALLDAYEVENT:1
END:VEVENT
END:VCALENDAR