BEGIN:VCALENDAR
PRODID:-//Microsoft Corporation//Outlook 12.0 MIMEDIR//EN
VERSION:2.0
CALSCALE:GREGORIAN
BEGIN:VEVENT
UID: 333f5bef-5e00-4392-a9c5-00b75e0491bf
SUMMARY:I kooliastme mälumäng
DTSTAMP:20190312
DTSTART:20190312
DTEND:20190313
DURATION:P1D
LOCATION:
DESCRIPTION: <p>	1.-3. klassi esindus osaleb I kooliastme mälumängul Raplas Vesiroosi Koolis.</p><p><strong>Link: </strong>https://kabala.edu.ee/et/sundmuste-kalender/i-kooliastme-malumang</p><p><strong>Hind: </strong></p>
STATUS:CONFIRMED
SEQUENCE:3
X-ALT-DESC;FMTTYPE=text/html:<p>	1.-3. klassi esindus osaleb I kooliastme mälumängul Raplas Vesiroosi Koolis.</p><p><strong>Link: </strong>https://kabala.edu.ee/et/sundmuste-kalender/i-kooliastme-malumang</p><p><strong>Hind: </strong></p>
X-MICROSOFT-CDO-BUSYSTATUS:OOF
X-MICROSOFT-CDO-IMPORTANCE:1
X-MICROSOFT-DISALLOW-COUNTER:FALSE
X-MS-OLK-ALLOWEXTERNCHECK:TRUE
X-MS-OLK-CONFTYPE:0
X-MICROSOFT-CDO-ALLDAYEVENT:1
X-MICROSOFT-MSNCALENDAR-ALLDAYEVENT:1
END:VEVENT
END:VCALENDAR