BEGIN:VCALENDAR
PRODID:-//Microsoft Corporation//Outlook 12.0 MIMEDIR//EN
VERSION:2.0
CALSCALE:GREGORIAN
BEGIN:VEVENT
UID: 759a5443-8aaa-41de-81df-94a5fc00efbd
SUMMARY:Maastikumäng-veerandilõpuviktoriin
DTSTAMP:20190607T090000
DTSTART:20190607T090000
DTEND:20190607T235900
LOCATION:
DESCRIPTION: <p>	Õppeaastat kokkuvõttev maastikumäng 1.-4. klassile ja 5.-9. klassile.</p><p><strong>Link: </strong>https://kabala.edu.ee/et/sundmuste-kalender/maastikumang-veerandilopuviktoriin</p><p><strong>Hind: </strong></p>
STATUS:CONFIRMED
SEQUENCE:3
X-ALT-DESC;FMTTYPE=text/html:<p>	Õppeaastat kokkuvõttev maastikumäng 1.-4. klassile ja 5.-9. klassile.</p><p><strong>Link: </strong>https://kabala.edu.ee/et/sundmuste-kalender/maastikumang-veerandilopuviktoriin</p><p><strong>Hind: </strong></p>
X-MICROSOFT-CDO-BUSYSTATUS:OOF
X-MICROSOFT-CDO-IMPORTANCE:1
X-MICROSOFT-DISALLOW-COUNTER:FALSE
X-MS-OLK-ALLOWEXTERNCHECK:TRUE
X-MS-OLK-CONFTYPE:0
X-MICROSOFT-CDO-ALLDAYEVENT:
X-MICROSOFT-MSNCALENDAR-ALLDAYEVENT:
END:VEVENT
END:VCALENDAR