BEGIN:VCALENDAR
PRODID:-//Microsoft Corporation//Outlook 12.0 MIMEDIR//EN
VERSION:2.0
CALSCALE:GREGORIAN
BEGIN:VEVENT
UID: a283be3e-7820-4e7f-82f4-adee16be31da
SUMMARY:Kooliaasta lõpuaktus
DTSTAMP:20230613T100000
DTSTART:20230613T100000
DTEND:20230613T235900
LOCATION:
DESCRIPTION: <p>	Kooliaasta lõpuaktus.</p><p>	<br />	Tublimate kiitmine ja tunnustamine 2022/2023 õppeaastal&nbsp;konkurssidel, võistlustel ning õpitulemustes muudes tegevustes saavutatud tulemuste eest.</p><p>	&nbsp;1.-8.klass&nbsp;&nbsp;</p><p><strong>Link: </strong>https://kabala.edu.ee/et/sundmuste-kalender/kooliaasta-lopuaktus-0</p><p><strong>Hind: </strong></p>
STATUS:CONFIRMED
SEQUENCE:3
X-ALT-DESC;FMTTYPE=text/html:<p>	Kooliaasta lõpuaktus.</p><p>	<br />	Tublimate kiitmine ja tunnustamine 2022/2023 õppeaastal&nbsp;konkurssidel, võistlustel ning õpitulemustes muudes tegevustes saavutatud tulemuste eest.</p><p>	&nbsp;1.-8.klass&nbsp;&nbsp;</p><p><strong>Link: </strong>https://kabala.edu.ee/et/sundmuste-kalender/kooliaasta-lopuaktus-0</p><p><strong>Hind: </strong></p>
X-MICROSOFT-CDO-BUSYSTATUS:OOF
X-MICROSOFT-CDO-IMPORTANCE:1
X-MICROSOFT-DISALLOW-COUNTER:FALSE
X-MS-OLK-ALLOWEXTERNCHECK:TRUE
X-MS-OLK-CONFTYPE:0
X-MICROSOFT-CDO-ALLDAYEVENT:
X-MICROSOFT-MSNCALENDAR-ALLDAYEVENT:
END:VEVENT
END:VCALENDAR